BEGIN:VCALENDAR
PRODID:iCalendar-Ruby
VERSION:2.0
X-WR-TIMEZONE:America/New_York
BEGIN:VTIMEZONE
TZID:America/New_York
X-LIC-LOCATION:America/New_York
BEGIN:STANDARD
DTSTART:20241103T020000
RRULE:FREQ=YEARLY;BYDAY=1SU;BYMONTH=11
TZNAME:EST
TZOFFSETFROM:-0400
TZOFFSETTO:-0500
END:STANDARD
BEGIN:DAYLIGHT
DTSTART:20250309T020000
RRULE:FREQ=YEARLY;BYDAY=2SU;BYMONTH=3
TZNAME:EDT
TZOFFSETFROM:-0500
TZOFFSETTO:-0400
END:DAYLIGHT
END:VTIMEZONE
BEGIN:VEVENT
DESCRIPTION:The purpose of the public hearing will be to seek comments on t
 he 2020 Schedule of Values\, Standards & Rules for Revaluation of Real Pro
 perty and the 2020 Present Use Schedule of Values\, Standards & Rules http
 s://www.cherokeecounty-nc.gov/calendar.aspx?EID=543
DTEND;TZID=America/New_York:20191104T190000
DTSTAMP;TZID=America/New_York:20191009T112807
DTSTART;TZID=America/New_York:20191104T183000
LAST-MODIFIED;TZID=America/New_York:20191009T112807
LOCATION: - 75 Peachtree Street  Murphy NC 28906
SEQUENCE:0
SUMMARY:Public Hearing on 2020 Tax Revaluation
UID:543
URL:/common/modules/iCalendar/iCalendar.aspx?feed=calendar&eventID=543
END:VEVENT
END:VCALENDAR
